BEGIN:VCALENDAR
PRODID:NingEventWidget-v1
VERSION:2.0
METHOD:PUBLISH
BEGIN:VTIMEZONE
TZID:America/Boise
X-LIC-LOCATION:America/Boise
BEGIN:DAYLIGHT
TZOFFSETFROM:-0700
TZOFFSETTO:-0600
TZNAME:MDT
DTSTART:19700308T020000
RRULE:FREQ=YEARLY;BYMONTH=3;BYDAY=2SU
END:DAYLIGHT
BEGIN:STANDARD
TZOFFSETFROM:-0600
TZOFFSETTO:-0700
TZNAME:MST
DTSTART:19701101T020000
RRULE:FREQ=YEARLY;BYMONTH=11;BYDAY=1SU
END:STANDARD
END:VTIMEZONE
BEGIN:VEVENT
UID:2985220:Event:455000
DTSTAMP:20260422T061738Z
SUMMARY:Algorithmic Design Workshops
DESCRIPTION:Can the dichotomy between obsessive tooling and strong des
 ign agenda be overcome? Can innovative software like Grasshopper be th
 e ideal platform to marry computation, creativity and ecologic thinkin
 g? What can be done to speed up the process?\nAlgorithmic Design Works
 hops is a platform created by ecoLogicStudio to engage these questions
  introducing novel parametric modeling techniques in the context of ar
 chitecture and landscape design.\nEach event will be a opportunity for
  learning design techniques, testing new methods and debating their po
 tential applications or evolution. Architects, Landscape architects, u
 rban designers and students alike will find in the workshops a unique 
 opportunity to improve their technical skills while confronting themse
 lves with the most debated advanced design subjects.\n \nmore info an
 d calendar on:\nhttp://algorithmicdesignworkshops.wordpress.com/\nhttp
 ://www.facebook.com/pages/Algorithmic-Design-Workshops/304379219577716
 ?sk=wall\n\nFor more information visit https://www.grasshopper3d.com/e
 vents/algorithmic-design-workshops-2
DTSTART;TZID=America/Boise:20111024T000000
DTEND;TZID=America/Boise:20111112T235900
CATEGORIES:grasshopper, workshop
LOCATION:ecoLogicStudio office, London
WEBSITE:http://algorithmicdesignworkshops.wordpress.com/
URL:http://algorithmicdesignworkshops.wordpress.com/
CONTACT:
ORGANIZER:ecoLogicStudio (Marco and Andrea)
ATTACH;FMTTYPE="image/jpeg":http://storage.ning.com/topology/rest/1.0/
 file/get/2827864344?profile=original
ATTENDEE;ROLE=REQ-PARTICIPANT;PARTSTAT=ACCEPTED;RSVP=TRUE;CN="Giulio P
 iacentino":https://www.grasshopper3d.com/profile/GiulioPiacentino
ATTENDEE;ROLE=REQ-PARTICIPANT;PARTSTAT=ACCEPTED;RSVP=TRUE;CN="andrea b
 ugli":https://www.grasshopper3d.com/profile/andreabugli
ATTENDEE;ROLE=REQ-PARTICIPANT;PARTSTAT=TENTATIVE;RSVP=TRUE;CN="Elis Va
 thi":https://www.grasshopper3d.com/profile/ElisVathi
END:VEVENT
END:VCALENDAR
