BEGIN:VCALENDAR
PRODID:NingEventWidget-v1
VERSION:2.0
METHOD:PUBLISH
BEGIN:VTIMEZONE
TZID:America/Boise
X-LIC-LOCATION:America/Boise
BEGIN:DAYLIGHT
TZOFFSETFROM:-0700
TZOFFSETTO:-0600
TZNAME:MDT
DTSTART:19700308T020000
RRULE:FREQ=YEARLY;BYMONTH=3;BYDAY=2SU
END:DAYLIGHT
BEGIN:STANDARD
TZOFFSETFROM:-0600
TZOFFSETTO:-0700
TZNAME:MST
DTSTART:19701101T020000
RRULE:FREQ=YEARLY;BYMONTH=11;BYDAY=1SU
END:STANDARD
END:VTIMEZONE
BEGIN:VEVENT
UID:2985220:Event:1827310
DTSTAMP:20260423T071711Z
SUMMARY:ALGORITHMIC ACCESSORIES V3.0
DESCRIPTION:Promo Video:Â https://www.youtube.com/watch?v=4c1j8TSTMEgÂ
  \n\nGrasshopper : Jewelry : Fabrication\n\nJoin us at our next worksh
 op ALGORITHMIC ACCESSORIES V3.0 in Vienna, Austria Feb 22 - Feb 25  A 
 generative jewelry design course teaching Rhino, Grasshopper, Keyshot 
 and 3D printing in collaboration with mything and ShapeDiver.  Taught 
 by Eva BlÅ¡Ã¡kovÃ¡ - Zaha Hadid Studio Vienna Andrei PAdure - DesignMo
 rphine / Digital Matters  Apply Now and view details at:Â www.designmo
 rphine.com/workshop/future/algorithmic-accessories-v3/  Follow us on F
 acebook:Â https://www.facebook.com/designmorphine  and Instagram:Â htt
 ps://www.instagram.com/designmorphine/\n\nFor more information visit h
 ttps://www.grasshopper3d.com/events/algorithmic-accessories-v3-0
DTSTART;TZID=America/Boise:20180222T090000
DTEND;TZID=America/Boise:20180225T200000
CATEGORIES:workshop, grasshopper, parametric, jewelry, generative, 3dp
 rinting
LOCATION:Vienna Austria
WEBSITE:http://designmorphine.com/workshop/future/algorithmic-accessor
 ies-v3/
URL:http://designmorphine.com/workshop/future/algorithmic-accessories-
 v3/
CONTACT:
ORGANIZER;CN=DesignMorphine:https://www.grasshopper3d.com/profile/Desi
 gnMorphine
ATTACH;FMTTYPE="image/jpeg":http://storage.ning.com/topology/rest/1.0/
 file/get/2709073555?profile=original
ATTENDEE;ROLE=REQ-PARTICIPANT;PARTSTAT=ACCEPTED;RSVP=TRUE;CN=DesignMor
 phine:https://www.grasshopper3d.com/profile/DesignMorphine
END:VEVENT
END:VCALENDAR
