BEGIN:VCALENDAR
PRODID:NingEventWidget-v1
VERSION:2.0
METHOD:PUBLISH
BEGIN:VTIMEZONE
TZID:America/Boise
X-LIC-LOCATION:America/Boise
BEGIN:DAYLIGHT
TZOFFSETFROM:-0700
TZOFFSETTO:-0600
TZNAME:MDT
DTSTART:19700308T020000
RRULE:FREQ=YEARLY;BYMONTH=3;BYDAY=2SU
END:DAYLIGHT
BEGIN:STANDARD
TZOFFSETFROM:-0600
TZOFFSETTO:-0700
TZNAME:MST
DTSTART:19701101T020000
RRULE:FREQ=YEARLY;BYMONTH=11;BYDAY=1SU
END:STANDARD
END:VTIMEZONE
BEGIN:VEVENT
UID:2985220:Event:1604622
DTSTAMP:20260424T030654Z
SUMMARY:ALGOMAD 2016
DESCRIPTION:\n\nLa irrupción de BIM en el sector de la edificación e
  infraestructuras ha supuesto no sólo un cambio de herramienta o meto
 dología, si no que supone abrir una puerta a la verdadera digitalizac
 ión del diseño, construcción y entendimiento de nuestro entorno.\nB
 IM está poniendo a disposición de los diseñadores y gestores autén
 ticas bases de datos que pueden generarse, conectarse y editarse de fo
 rma paramétrica, proporcionando una sólida capa de realidad a los ej
 ercicios de diseño generativo y computación que son objeto de estudi
 o en Algomad, el seminario que busca popularizar la programación y la
  parametrización en el diseño y en la experiencia de nuestro entorno
  construido.\nTras un paréntesis en 2015, Algomad vuelve con el objet
 ivo de demostrar cómo una visión computacional del BIM es una oportu
 nidad para mejorar la forma de trabajar de ingenieros, arquitectos, co
 nstructoras y operadores de edificios e infraestructuras, tendiendo un
  puente entre las técnicas de diseño digital más avanzadas y la rea
 lidad de la construcción.\nAlgomad 2016 tendrá lugar en el centro de
  Madrid, en IE School of Architecture and Design, IE University, los 
 días 3, 4 y 5 de Noviembre de 2016 y comprenderá 4 talleres así 
 como ponencias a cargo de expertos de primer nivel.\nEstructura de Al
 gomad 2016\nAlgomad 2016 se estructura en torno a tres áreas temátic
 as principales:\n\nBIM, como la metodología total específica para el
  sector de la construcción.\nComputación, englobando las aplicacione
 s de programación y parametrización al diseño de edificios e infrae
 structuras.\nRealidad, como marco de trabajo, buscando siempre resolve
 r problemas reales a través de los dos puntos anteriores.\n\nPúblico
  objetivo\nArquitectos, arquitectos técnicos, ingenieros y en general
  académicos, estudiantes de últimos cursos y profesionales del mundo
  inmobiliario y de la construcción que compartan un interés por la d
 igitalización de nuestro sector. Se espera un nivel mínimo en el uso
  de herramientas BIM y de parametrización. Algomad proporcionará for
 mación adicional y gratuita en las herramientas básicas a emplear en
  los talleres para asegurar un correcto desempeño.\n\nFor more inform
 ation visit https://www.grasshopper3d.com/events/algomad-2016
DTSTART;TZID=America/Boise:20161103T000000
DTEND;TZID=America/Boise:20161105T235900
CATEGORIES:talleres, conferencias
LOCATION:IE School of Architecture and Design
WEBSITE:http://www.algomad.org/
URL:http://www.algomad.org/
CONTACT:+34 91 071 2981
ORGANIZER:Modelical
ATTACH;FMTTYPE="image/jpeg":http://storage.ning.com/topology/rest/1.0/
 file/get/2829502460?profile=original
ATTENDEE;ROLE=REQ-PARTICIPANT;PARTSTAT=ACCEPTED;RSVP=TRUE;CN="Frantxo 
 Tabanera Asensio":https://www.grasshopper3d.com/profile/FrantxoTabaner
 aAsensio
END:VEVENT
END:VCALENDAR
