BEGIN:VCALENDAR
PRODID:NingEventWidget-v1
VERSION:2.0
METHOD:PUBLISH
BEGIN:VTIMEZONE
TZID:America/Boise
X-LIC-LOCATION:America/Boise
BEGIN:DAYLIGHT
TZOFFSETFROM:-0700
TZOFFSETTO:-0600
TZNAME:MDT
DTSTART:19700308T020000
RRULE:FREQ=YEARLY;BYMONTH=3;BYDAY=2SU
END:DAYLIGHT
BEGIN:STANDARD
TZOFFSETFROM:-0600
TZOFFSETTO:-0700
TZNAME:MST
DTSTART:19701101T020000
RRULE:FREQ=YEARLY;BYMONTH=11;BYDAY=1SU
END:STANDARD
END:VTIMEZONE
BEGIN:VEVENT
UID:2985220:Event:863183
DTSTAMP:20260423T091753Z
SUMMARY:Algomad 2013 - Barcelona - Focus on Sagrada Familia
DESCRIPTION:Algomad is a tool-oriented intensive workshop that explore
 s how parametric and generative modeling affects the way we design. Th
 is year it will focus and happen in Sagrada Familia, one of the most a
 mazing buildings that is designed and constructed using rhino and gras
 shopper as a core part of its workflow.\n\n4 workshops run by Sagrada 
 Familia staff plus external tutors happening 4-6 July.\nGuided visits 
 to SF construction site, CNC workshops and offices.\n4 Days of confere
 nces with outstanding Lectures:\n\nMark Burry - RMIT\nSebastián Gonza
 lez - AL_Architects London\nJoan Carles Casasin - Typo Design\nJacques
  Raynaud - RFR Paris\nand more...\n\nAt the amazing price of 145€\nA
 ll happening between the Temple and Elisava School of Design, in Las R
 amblas, Barcelona most amazing street.\nYou can't miss it!\n\nFor more
  information visit https://www.grasshopper3d.com/events/algomad-2013-b
 arcelona-focus-on-sagrada-familia
DTSTART;TZID=America/Boise:20130703T180000
DTEND;TZID=America/Boise:20130706T210000
CATEGORIES:workshop, "+", conferences
LOCATION:Barcelona
WEBSITE:http://www.algomad.org/algomad-2013/en/
URL:http://www.algomad.org/algomad-2013/en/
CONTACT:
ORGANIZER:Algomad
ATTACH;FMTTYPE="image/jpeg":http://storage.ning.com/topology/rest/1.0/
 file/get/2828299867?profile=original
ATTENDEE;ROLE=REQ-PARTICIPANT;PARTSTAT=ACCEPTED;RSVP=TRUE;CN=Roberto:h
 ttps://www.grasshopper3d.com/profile/Roberto
END:VEVENT
END:VCALENDAR
