BEGIN:VCALENDAR
PRODID:NingEventWidget-v1
VERSION:2.0
METHOD:PUBLISH
BEGIN:VTIMEZONE
TZID:America/Boise
X-LIC-LOCATION:America/Boise
BEGIN:DAYLIGHT
TZOFFSETFROM:-0700
TZOFFSETTO:-0600
TZNAME:MDT
DTSTART:19700308T020000
RRULE:FREQ=YEARLY;BYMONTH=3;BYDAY=2SU
END:DAYLIGHT
BEGIN:STANDARD
TZOFFSETFROM:-0600
TZOFFSETTO:-0700
TZNAME:MST
DTSTART:19701101T020000
RRULE:FREQ=YEARLY;BYMONTH=11;BYDAY=1SU
END:STANDARD
END:VTIMEZONE
BEGIN:VEVENT
UID:2985220:Event:596428
DTSTAMP:20260423T230255Z
SUMMARY:Algomad 2012
DESCRIPTION:Algomad 2012 is a No-Experience-Required short workshop on
  generative tools and information workflows for architects and enginee
 rs. It focuses on Form, Structure and Performance as main topics to fo
 llow during 3 days of GH/Rhino/Revit/Scripting training. \nInfo and r
 egistration at www.algomad.org\n\nFor more information visit https://w
 ww.grasshopper3d.com/events/algomad-2012
DTSTART;TZID=America/Boise:20120621T000000
DTEND;TZID=America/Boise:20120623T235900
CATEGORIES:workshop
LOCATION:EPS CEU San Pablo - Madrid
WEBSITE:http://www.algomad.org
URL:http://www.algomad.org
CONTACT:
ORGANIZER:Algomad
ATTACH;FMTTYPE="image/jpeg":http://storage.ning.com/topology/rest/1.0/
 file/get/2828012449?profile=original
ATTENDEE;ROLE=REQ-PARTICIPANT;PARTSTAT=ACCEPTED;RSVP=TRUE;CN=Roberto:h
 ttps://www.grasshopper3d.com/profile/Roberto
END:VEVENT
END:VCALENDAR
