BEGIN:VCALENDAR
PRODID:NingEventWidget-v1
VERSION:2.0
METHOD:PUBLISH
BEGIN:VTIMEZONE
TZID:America/Boise
X-LIC-LOCATION:America/Boise
BEGIN:DAYLIGHT
TZOFFSETFROM:-0700
TZOFFSETTO:-0600
TZNAME:MDT
DTSTART:19700308T020000
RRULE:FREQ=YEARLY;BYMONTH=3;BYDAY=2SU
END:DAYLIGHT
BEGIN:STANDARD
TZOFFSETFROM:-0600
TZOFFSETTO:-0700
TZNAME:MST
DTSTART:19701101T020000
RRULE:FREQ=YEARLY;BYMONTH=11;BYDAY=1SU
END:STANDARD
END:VTIMEZONE
BEGIN:VEVENT
UID:2985220:Event:85313
DTSTAMP:20260419T182424Z
SUMMARY:ALGODE TOKYO 2011
DESCRIPTION:ALGODE means \"International Symposium on Algorithmic Desi
 gn for Architecture and Urban Design\".\nSee detail.\nSumposium will b
 e held from March 14-16, 2011.\nInternational Student Argorithmic Desi
 gn Workshop will be held from Mrach 15-19, 2011\n\nFor more informatio
 n visit https://www.grasshopper3d.com/events/algode-tokyo-2011
DTSTART;TZID=America/Boise:20110314T000000
DTEND;TZID=America/Boise:20110316T235900
CATEGORIES:symposium, "&", workshop
LOCATION:AIJ Hall Tokyo, Japan
WEBSITE:http://news-sv.aij.or.jp/algode/index.html
URL:http://news-sv.aij.or.jp/algode/index.html
CONTACT:
ORGANIZER:ALGODE 2011 Symposium Committee
ATTACH;FMTTYPE="image/jpeg":http://storage.ning.com/topology/rest/1.0/
 file/get/2827719427?profile=original
ATTENDEE;ROLE=REQ-PARTICIPANT;PARTSTAT=ACCEPTED;RSVP=TRUE;CN="Ioanna S
 ymeonidou":https://www.grasshopper3d.com/profile/IoannaSymeonidou
ATTENDEE;ROLE=REQ-PARTICIPANT;PARTSTAT=ACCEPTED;RSVP=TRUE;CN="Jon Mirt
 schin":https://www.grasshopper3d.com/profile/JonMirtschin
ATTENDEE;ROLE=REQ-PARTICIPANT;PARTSTAT=ACCEPTED;RSVP=TRUE;CN="Yukio Mi
 nobe":https://www.grasshopper3d.com/profile/YukioMinobe
ATTENDEE;ROLE=REQ-PARTICIPANT;PARTSTAT=ACCEPTED;RSVP=TRUE;CN="P. Casey
  Mahon":https://www.grasshopper3d.com/profile/PCaseyMahon
ATTENDEE;ROLE=REQ-PARTICIPANT;PARTSTAT=ACCEPTED;RSVP=TRUE;CN="Atsuo Na
 kajima":https://www.grasshopper3d.com/profile/AtsuoNakajima
ATTENDEE;ROLE=REQ-PARTICIPANT;PARTSTAT=TENTATIVE;RSVP=TRUE;CN="Tristan
  Morgan":https://www.grasshopper3d.com/profile/TristanMorgan
ATTENDEE;ROLE=REQ-PARTICIPANT;PARTSTAT=TENTATIVE;RSVP=TRUE;CN="Ruwan F
 ernando":https://www.grasshopper3d.com/profile/RuwanFernando
ATTENDEE;ROLE=REQ-PARTICIPANT;PARTSTAT=TENTATIVE;RSVP=TRUE;CN="Kamil K
 iendzierski":https://www.grasshopper3d.com/profile/KamilKiendzierski
END:VEVENT
END:VCALENDAR
