BEGIN:VCALENDAR
PRODID:NingEventWidget-v1
VERSION:2.0
METHOD:PUBLISH
BEGIN:VTIMEZONE
TZID:America/Boise
X-LIC-LOCATION:America/Boise
BEGIN:DAYLIGHT
TZOFFSETFROM:-0700
TZOFFSETTO:-0600
TZNAME:MDT
DTSTART:19700308T020000
RRULE:FREQ=YEARLY;BYMONTH=3;BYDAY=2SU
END:DAYLIGHT
BEGIN:STANDARD
TZOFFSETFROM:-0600
TZOFFSETTO:-0700
TZNAME:MST
DTSTART:19701101T020000
RRULE:FREQ=YEARLY;BYMONTH=11;BYDAY=1SU
END:STANDARD
END:VTIMEZONE
BEGIN:VEVENT
UID:2985220:Event:83857
DTSTAMP:20260421T004536Z
SUMMARY:Aether.scs02 Installation at Aura Exhibition Opening
DESCRIPTION:The Business of Aura- Opening August 12th at the Elga Wimm
 er Gallery.\n\nThe concept of aura has myriad associations in art and 
 design history, from the Frankfurt School to New Age Spiritualism. All
  too often, however, the term is read in its narrowest sense- the aura
  that Walter Benjamin mourned the loss of in his famous essay Work of 
 Art in the Age of Mechanical Reproduction, now 75 years old. Rather th
 an taking up the terms of that debate, asking whether or not art today
  has lost its aura, this collection aims to reclaim a broader understa
 nding of aura in contemporary practices today.\n\nIn popular culture, 
 aura is generally defined as a symptom of altered visual or sensual st
 ates. Reflecting this, the current exhibition includes works that prod
 uce visceral affect-based responses. These works operate through mater
 ial richness, surface tactility, striking geometry, animate form, and 
 light. Also included are works that encompass an inventive reading of 
 aura. In this context, the exhibition models creative studio practice 
 as a general force that extends beyond boundaries and containers- the 
 aura here is not so much a property of an object that can be sensed, b
 ut rather a conceptual ambition to start with the everyday and then ex
 pand beyond it, producing new structures, symbols, or social interacti
 ons.\n\nOther works look at an interior aura- they focus on individual
  subjects who are lost in an environment, engrossed in their own world
 . Through narrative, these works look at the psychological potential o
 f aura to produce new experiences of reality. Linking the works is the
  \"business of art- the buying and selling of designed objects located
  within a market\". As much as art relies on creating \"otherness\", t
 he art market is ultimately about the desire of the intangible, the au
 ra of the work. The art business provides a stage for aura. The exhibi
 tion is a testimony to a multitude of perspectives, showing that the B
 usiness of Aura remains as intangible yet present today as it was seve
 nty-five years ago.\n\nArtists & architecturally trained designers at 
 Elga Wimmer Gallery include - Helen Brough, Elizabeth Cooper, Cmmnwlth
  (Zoe Coombes & David Boira)-in collaboration with Timothy Saccenti, K
 elsey Harrington, Jon Meyer, Steve Orlando, Devin Powers, Snarkitectur
 e, SOFTlab, Studio Mode, and yo_cy (Christine Yogiaman & Ken Tracy).\n
 \nElga Wimmer Gallery\n526 West 26th St. NYC #310\nAugust 12 - Septemb
 er 18, 2010\nOpening reception Thursday August 12 6:00-8:00pm\nSummer 
 hours - Tuesday - Friday 12-6pm\nHours after Labor Day Tuesday - Satur
 day 12-6pm\n\nFor more information visit https://www.grasshopper3d.com
 /events/aetherscs02-installation-at
DTSTART;TZID=America/Boise:20100812T180000
DTEND;TZID=America/Boise:20100812T200000
CATEGORIES:exhibition
LOCATION:Elga Wimmer Gallery
WEBSITE:
URL:
CONTACT:
ORGANIZER:Kelsey Harrington
ATTACH;FMTTYPE="image/jpeg":http://storage.ning.com/topology/rest/1.0/
 file/get/2804722002?profile=original
ATTENDEE;ROLE=REQ-PARTICIPANT;PARTSTAT=ACCEPTED;RSVP=TRUE;CN="GIL AKOS
 ":https://www.grasshopper3d.com/profile/GILAKOS
END:VEVENT
END:VCALENDAR
