BEGIN:VCALENDAR
PRODID:NingEventWidget-v1
VERSION:2.0
METHOD:PUBLISH
BEGIN:VTIMEZONE
TZID:America/Boise
X-LIC-LOCATION:America/Boise
BEGIN:DAYLIGHT
TZOFFSETFROM:-0700
TZOFFSETTO:-0600
TZNAME:MDT
DTSTART:19700308T020000
RRULE:FREQ=YEARLY;BYMONTH=3;BYDAY=2SU
END:DAYLIGHT
BEGIN:STANDARD
TZOFFSETFROM:-0600
TZOFFSETTO:-0700
TZNAME:MST
DTSTART:19701101T020000
RRULE:FREQ=YEARLY;BYMONTH=11;BYDAY=1SU
END:STANDARD
END:VTIMEZONE
BEGIN:VEVENT
UID:2985220:Event:1349650
DTSTAMP:20260423T192239Z
SUMMARY:AEC Technology Symposium and Hackathon
DESCRIPTION:Join us for this year’s AEC Technology Symposium and Hac
 kathon in NYC on September 25-27! We will discuss and explore advances
  in computational design, applied research, big data, and explore the 
 open source model to advance the building design and construction indu
 stry.\n \nOur Friday symposium at Baruch College will include technol
 ogical leaders from AEC firms such as Thornton Tomasetti, Kieran Timbe
 rlake, LMN, NBBJ, Autodesk, and KPF, as well as NYU’s Center for Urb
 an Science + Progress, Google Venture startup Flux.io, and digital med
 ia agency Ready Set Rocket. \n \nThe symposium will be followed by a
  weekend-long hackathon at Grohe Live! NYC, aimed to generate new idea
 s and processes for the AEC community through data-driven design and w
 eb-based applications. For those who wish to learn new skills in addit
 ion to participating in the hackathon, the weekend also will include v
 aluable workshops that cover topics such as Dynamo, Grasshopper, vario
 us APIs, and 3D printing.\n \nStudent discounts are available upon re
 quest. Please visit our website to learn more and register!\n\nFor mor
 e information visit https://www.grasshopper3d.com/events/aec-technolog
 y-symposium-and-hackathon
DTSTART;TZID=America/Boise:20150925T090000
DTEND;TZID=America/Boise:20150927T150000
CATEGORIES:symposium, hackathon
LOCATION:New York City
WEBSITE:http://core.thorntontomasetti.com/event/aec-technology-symposi
 um-2015/
URL:http://core.thorntontomasetti.com/event/aec-technology-symposium-2
 015/
CONTACT:
ORGANIZER;CN="Jonatan Schumacher":https://www.grasshopper3d.com/profil
 e/JonatanSchumacher
ATTACH;FMTTYPE="image/jpeg":http://storage.ning.com/topology/rest/1.0/
 file/get/2829041611?profile=original
ATTENDEE;ROLE=REQ-PARTICIPANT;PARTSTAT=ACCEPTED;RSVP=TRUE;CN="Jonatan 
 Schumacher":https://www.grasshopper3d.com/profile/JonatanSchumacher
END:VEVENT
END:VCALENDAR
