BEGIN:VCALENDAR
PRODID:NingEventWidget-v1
VERSION:2.0
METHOD:PUBLISH
BEGIN:VTIMEZONE
TZID:America/Boise
X-LIC-LOCATION:America/Boise
BEGIN:DAYLIGHT
TZOFFSETFROM:-0700
TZOFFSETTO:-0600
TZNAME:MDT
DTSTART:19700308T020000
RRULE:FREQ=YEARLY;BYMONTH=3;BYDAY=2SU
END:DAYLIGHT
BEGIN:STANDARD
TZOFFSETFROM:-0600
TZOFFSETTO:-0700
TZNAME:MST
DTSTART:19701101T020000
RRULE:FREQ=YEARLY;BYMONTH=11;BYDAY=1SU
END:STANDARD
END:VTIMEZONE
BEGIN:VEVENT
UID:2985220:Event:1033243
DTSTAMP:20260423T192256Z
SUMMARY:AEC Technology Symposium and Hackathon 2014
DESCRIPTION:CORE Studio Thornton Tomasetti is proud to announce the s
 econd Architecture, Engineering, and Construction Technology Symposium
   on May 16th at The Cooper Union.\nKeynote speakers, Shane Burger of
  Woods Bagot and Deepak Aatresh of Aditazz,  will be joined by leader
 s of the AEC profession to discuss the topics of Computational Design 
 and Big Data.\nThe first half of the symposium will highlight recent a
 dvances in data-intensive computational design, analysis, construction
 , and fabrication. The second half of the symposium will concentrate o
 n how web-based applications can enhance these processes in the future
 .\nThe symposium will be followed by a weekend-long hackathon aimed to
  generate new ideas and processes for the AEC community through data-d
 riven design and web-based applications.\n \nFor more information ple
 ase visit the new CORE studio site.\n\nFor more information visit http
 s://www.grasshopper3d.com/events/aec-technology-symposium-and-hackatho
 n-2014
DTSTART;TZID=America/Boise:20140516T090000
DTEND;TZID=America/Boise:20140518T160000
CATEGORIES:symposium, hackathon
LOCATION:The Cooper Union
WEBSITE:http://core.thorntontomasetti.com/aec-technology-symposium-201
 4/aec-technology-symposium-2014-invite/
URL:http://core.thorntontomasetti.com/aec-technology-symposium-2014/ae
 c-technology-symposium-2014-invite/
CONTACT:
ORGANIZER:CORE studio Thornton Tomasetti
ATTACH;FMTTYPE="image/jpeg":http://storage.ning.com/topology/rest/1.0/
 file/get/2828511749?profile=original
ATTENDEE;ROLE=REQ-PARTICIPANT;PARTSTAT=ACCEPTED;RSVP=TRUE;CN="Ashley R
 eed":https://www.grasshopper3d.com/profile/AshleyReed
END:VEVENT
END:VCALENDAR
