BEGIN:VCALENDAR
PRODID:NingEventWidget-v1
VERSION:2.0
METHOD:PUBLISH
BEGIN:VTIMEZONE
TZID:America/Boise
X-LIC-LOCATION:America/Boise
BEGIN:DAYLIGHT
TZOFFSETFROM:-0700
TZOFFSETTO:-0600
TZNAME:MDT
DTSTART:19700308T020000
RRULE:FREQ=YEARLY;BYMONTH=3;BYDAY=2SU
END:DAYLIGHT
BEGIN:STANDARD
TZOFFSETFROM:-0600
TZOFFSETTO:-0700
TZNAME:MST
DTSTART:19701101T020000
RRULE:FREQ=YEARLY;BYMONTH=11;BYDAY=1SU
END:STANDARD
END:VTIMEZONE
BEGIN:VEVENT
UID:2985220:Event:1226211
DTSTAMP:20260422T224511Z
SUMMARY:Advancing Wood Architecture
DESCRIPTION:We are pleased to invite you to the Advancing Wood Archite
 cture – New Computational Perspectives symposium on Friday, March 27
 th 2015.\n \nOrganized by the Institute for Computational Design, the
  symposium will convene for a full day at the main auditorium of the D
 AM Deutsches Architekturmuseum (German Architecture Museum) in Frankfu
 rt, Germany.\n \nIt will offer a comprehensive overview of the new ar
 chitectural possibilities that are enabled by cutting-edge digital tec
 hnologies in wood construction through the works and built projects of
  four leading design research groups in Europe.\n \nETH Zürich, Gram
 azio Kohler Research\nProf. Matthias Kohler\nIBOIS EPFL Lausanne, Labo
 ratory for Timber Construction\nProf. Yves Weinand\nDesign & Make Hook
 e Park, Architectural Association London\nProgramme Director Martin Se
 lf\nICD University of Stuttgart, Institute for Computational Design\nP
 rof. Achim Menges\n \nIntroduction and Moderation by Prof. Axel Kilia
 n (Princeton University)\nRoundtable Discussion with Prof. Johan Bettu
 m (SAC Staedelschule Frankfurt)\n\nThe architecture and engineering ch
 amber of Hessen accredited the symposium with 5 CES. The symposium and
  all presentations will be held in English. Coffee and lunch is includ
 ed with the tickets.\n \nPlease visit www.advancingwoodarchitecture.c
 om for tickets and more information.\n\nFor more information visit htt
 ps://www.grasshopper3d.com/events/advancing-wood-architecture
DTSTART;TZID=America/Boise:20150327T093000
DTEND;TZID=America/Boise:20150327T183000
CATEGORIES:symposium
LOCATION:German Museum of Architecture, Frankfurt, Germany
WEBSITE:http://www.advancingwoodarchitecture.com
URL:http://www.advancingwoodarchitecture.com
CONTACT:
ORGANIZER:Institute for Computational Design
ATTACH;FMTTYPE="image/jpeg":http://storage.ning.com/topology/rest/1.0/
 file/get/2828835764?profile=original
ATTENDEE;ROLE=REQ-PARTICIPANT;PARTSTAT=ACCEPTED;RSVP=TRUE;CN="Kamil Ki
 endzierski":https://www.grasshopper3d.com/profile/KamilKiendzierski
ATTENDEE;ROLE=REQ-PARTICIPANT;PARTSTAT=ACCEPTED;RSVP=TRUE;CN="Tobias S
 chwinn":https://www.grasshopper3d.com/profile/TobiasSchwinn
ATTENDEE;ROLE=REQ-PARTICIPANT;PARTSTAT=ACCEPTED;RSVP=TRUE;CN="Oliver D
 avid":https://www.grasshopper3d.com/profile/OliverDavid
END:VEVENT
END:VCALENDAR
