BEGIN:VCALENDAR
PRODID:NingEventWidget-v1
VERSION:2.0
METHOD:PUBLISH
BEGIN:VTIMEZONE
TZID:America/Boise
X-LIC-LOCATION:America/Boise
BEGIN:DAYLIGHT
TZOFFSETFROM:-0700
TZOFFSETTO:-0600
TZNAME:MDT
DTSTART:19700308T020000
RRULE:FREQ=YEARLY;BYMONTH=3;BYDAY=2SU
END:DAYLIGHT
BEGIN:STANDARD
TZOFFSETFROM:-0600
TZOFFSETTO:-0700
TZNAME:MST
DTSTART:19701101T020000
RRULE:FREQ=YEARLY;BYMONTH=11;BYDAY=1SU
END:STANDARD
END:VTIMEZONE
BEGIN:VEVENT
UID:2985220:Event:1363365
DTSTAMP:20260423T005810Z
SUMMARY:Advanced Master in Computational Design & Making
DESCRIPTION:DESIGN by DATA\nAdvanced Master in Computational Design, D
 igital Manufacturing and Building Technologies\n\n..........\n\nThe Ad
 vanced Master DESIGN by DATA provides attendees a cross-disciplinary c
 ulture of computational design and a comprehensive knowledge of cuttin
 g-edge technologies in the fields of parametric architecture, robotics
 , digital manufacturing and 3d printing for the construction industry.
  The program is a part-time executive format (one week per month durin
 g one year) designed for a selected group of architects, engineers, de
 signers and digital artists. DESIGN by DATA is made of courses, fabric
 ation and prototyping workshops, conferences, digital talks and networ
 king events. The program take place in multiple locations in Paris and
  is a true opportunity to enter the international ecosystem of archite
 ctural innovation. A coworking membership and a full fablab access to 
 digital manufacturing machines are included in the program.\n\n.......
 ...\n\nPROGRAM \nA) ART AND CULTURE IN THE DIGITAL TURN Digital Cultu
 re and Liquid Spaces (Yasmine Abbas)\nSmart cities and Collective Inte
 lligence (Domenico Di Siena)\nArt, Technology and the Creative Process
  (Eric Vernhes)\nAdvanced Mesh Modelling and Data Bodies (Andrea Grazi
 ano)\nAgent Based Tectonics for Architecture (Alessio Erioli)\n \nB) 
 COMPUTATIONAL DESIGN: COMPLEX GEOMETRIES AND OPTIMISATION\nManagement 
 and Design of Complex Geometries (Olivier Baverel)\nConceptual Structu
 ral Design (Romain Mesnil)\nAlgorithmic Optimization (Cyril Douthe)\nP
 ermormance-driven Design (Sébastien Perrault)\n \nC) ADDITIVE MANUFA
 CTURING AND ROBOTIC FABRICATION\nRobotics and Industrial Fabrication (
 Thibault Schwartz )\n3d Printing and Material Science  (Justin Dirren
 berger)\nDrones and Aerial Robotics for Environnemental Design and Arc
 hitecture (Aldo Sollazzo)\nDigital Prototyping and Final Project Fabri
 cation (Minh Man Nguyen)\n \nAPPLY FOR SEPTEMBER 2016\nhttp://www.enp
 c.fr/design-by-data\n\nFor more information visit https://www.grasshop
 per3d.com/events/advanced-master-in-computational-design-making
DTSTART;TZID=America/Boise:20160901T000000
DTEND;TZID=America/Boise:20170731T235900
CATEGORIES:advanced, master
LOCATION:Paris
WEBSITE:http://www.enpc.fr/node/16971
URL:http://www.enpc.fr/node/16971
CONTACT:+33 6 52 64 51 09
ORGANIZER:Ecole Nationale des Ponts et Chaussées
ATTACH;FMTTYPE="image/jpeg":http://storage.ning.com/topology/rest/1.0/
 file/get/2829064131?profile=original
ATTENDEE;ROLE=REQ-PARTICIPANT;PARTSTAT=ACCEPTED;RSVP=TRUE;CN="Aldo Sol
 lazzo":https://www.grasshopper3d.com/profile/aldosollazzo
ATTENDEE;ROLE=REQ-PARTICIPANT;PARTSTAT=ACCEPTED;RSVP=TRUE;CN="Sebastie
 n Perrault":https://www.grasshopper3d.com/profile/SebPerrault
ATTENDEE;ROLE=REQ-PARTICIPANT;PARTSTAT=ACCEPTED;RSVP=TRUE;CN="Francesc
 o Cingolani":https://www.grasshopper3d.com/profile/FrancescoCingolani
ATTENDEE;ROLE=REQ-PARTICIPANT;PARTSTAT=ACCEPTED;RSVP=TRUE;CN="Romain M
 esnil":https://www.grasshopper3d.com/profile/RomainMesnil
ATTENDEE;ROLE=REQ-PARTICIPANT;PARTSTAT=ACCEPTED;RSVP=TRUE;CN="Thibault
  Schwartz":https://www.grasshopper3d.com/profile/Thibal
END:VEVENT
END:VCALENDAR
