BEGIN:VCALENDAR
PRODID:NingEventWidget-v1
VERSION:2.0
METHOD:PUBLISH
BEGIN:VTIMEZONE
TZID:America/Boise
X-LIC-LOCATION:America/Boise
BEGIN:DAYLIGHT
TZOFFSETFROM:-0700
TZOFFSETTO:-0600
TZNAME:MDT
DTSTART:19700308T020000
RRULE:FREQ=YEARLY;BYMONTH=3;BYDAY=2SU
END:DAYLIGHT
BEGIN:STANDARD
TZOFFSETFROM:-0600
TZOFFSETTO:-0700
TZNAME:MST
DTSTART:19701101T020000
RRULE:FREQ=YEARLY;BYMONTH=11;BYDAY=1SU
END:STANDARD
END:VTIMEZONE
BEGIN:VEVENT
UID:2985220:Event:1048999
DTSTAMP:20260420T054336Z
SUMMARY:Advanced Grasshopper: Pavilion Case-Study // May 17-18 // Los 
 Angeles
DESCRIPTION:\nSomewhereSomething is offering a 2-day advanced Grassh
 opper workshop that will use the Cutty Sark Pavilion by Bakoko Archite
 cts as a case-study to focus on complex geometry creation techniques, 
 advanced data tree management, and the use of numerous Grasshopper Plu
 g-ins.\nThrough lectures and hands on exercises, the participants will
  be able to construct the Cutty Sark pavilion, produce renderings, ani
 mation and documentation. By focusing on a pavilion scale case-study, 
 the participants will be guided through a typical geometry constructio
 n to representation Grasshopper workflow.\nPlease refer to this link f
 or further information about the Grasshopper Series and registration s
 pecifics. \n\n\n\nFor more information visit https://www.grasshopper3
 d.com/events/advanced-grasshopper-pavilion-case-study-may-17-18-los-an
 geles
DTSTART;TZID=America/Boise:20140517T120000
DTEND;TZID=America/Boise:20140518T180000
CATEGORIES:workshop, "los angeles"
LOCATION:Los Angeles
WEBSITE:http://somewheresomething.com/advanced-grasshopper-workshop-ma
 y-2014/
URL:http://somewheresomething.com/advanced-grasshopper-workshop-may-20
 14/
CONTACT:323.382.8939
ORGANIZER;CN="Somewhere Something":https://www.grasshopper3d.com/profi
 le/SomewhereSomething
ATTACH;FMTTYPE="image/jpeg":http://storage.ning.com/topology/rest/1.0/
 file/get/2828532295?profile=original
ATTENDEE;ROLE=REQ-PARTICIPANT;PARTSTAT=ACCEPTED;RSVP=TRUE;CN="Somewher
 e Something":https://www.grasshopper3d.com/profile/SomewhereSomething
END:VEVENT
END:VCALENDAR
