BEGIN:VCALENDAR
PRODID:NingEventWidget-v1
VERSION:2.0
METHOD:PUBLISH
BEGIN:VTIMEZONE
TZID:America/Boise
X-LIC-LOCATION:America/Boise
BEGIN:DAYLIGHT
TZOFFSETFROM:-0700
TZOFFSETTO:-0600
TZNAME:MDT
DTSTART:19700308T020000
RRULE:FREQ=YEARLY;BYMONTH=3;BYDAY=2SU
END:DAYLIGHT
BEGIN:STANDARD
TZOFFSETFROM:-0600
TZOFFSETTO:-0700
TZNAME:MST
DTSTART:19701101T020000
RRULE:FREQ=YEARLY;BYMONTH=11;BYDAY=1SU
END:STANDARD
END:VTIMEZONE
BEGIN:VEVENT
UID:2985220:Event:81383
DTSTAMP:20260424T154449Z
SUMMARY:AAG10 - One DOF linkage manipulation using rigid origami
DESCRIPTION:Gregory Epps (RoboFold) and Tomohiro Tachi (Rigid Origami 
 Simulator) lead a workshop at AAG10 to reverse engineer curved folds t
 o articulate a one Degree-Of-Freedom rigid plate linkage. Using Grassh
 opper and TT's software, you will take part in physical and simulated 
 folding - and build a fully articulated flat plate linkage.\n\nFollow 
 us on www.curvedfolding.com\n\nFor more information visit https://www.
 grasshopper3d.com/events/aag10-one-dof-linkage
DTSTART;TZID=America/Boise:20100918T000000
DTEND;TZID=America/Boise:20100919T235900
CATEGORIES:workshop
LOCATION:Vienna TU, Austria
WEBSITE:http://www.architecturalgeometry.at/aag10/index.php
URL:http://www.architecturalgeometry.at/aag10/index.php
CONTACT:
ORGANIZER:Gregory Epps and Tomohiro Tachi for AAG
ATTACH;FMTTYPE="image/jpeg":http://storage.ning.com/topology/rest/1.0/
 file/get/2827718227?profile=original
ATTENDEE;ROLE=REQ-PARTICIPANT;PARTSTAT=ACCEPTED;RSVP=TRUE;CN="Ioanna S
 ymeonidou":https://www.grasshopper3d.com/profile/IoannaSymeonidou
ATTENDEE;ROLE=REQ-PARTICIPANT;PARTSTAT=ACCEPTED;RSVP=TRUE;CN="Daniel P
 iker":https://www.grasshopper3d.com/profile/DanielPiker
ATTENDEE;ROLE=REQ-PARTICIPANT;PARTSTAT=ACCEPTED;RSVP=TRUE;CN="Giulio P
 iacentino":https://www.grasshopper3d.com/profile/GiulioPiacentino
ATTENDEE;ROLE=REQ-PARTICIPANT;PARTSTAT=ACCEPTED;RSVP=TRUE;CN="Gregory 
 Epps":https://www.grasshopper3d.com/profile/GregoryEpps
END:VEVENT
END:VCALENDAR
