BEGIN:VCALENDAR
PRODID:NingEventWidget-v1
VERSION:2.0
METHOD:PUBLISH
BEGIN:VTIMEZONE
TZID:America/Boise
X-LIC-LOCATION:America/Boise
BEGIN:DAYLIGHT
TZOFFSETFROM:-0700
TZOFFSETTO:-0600
TZNAME:MDT
DTSTART:19700308T020000
RRULE:FREQ=YEARLY;BYMONTH=3;BYDAY=2SU
END:DAYLIGHT
BEGIN:STANDARD
TZOFFSETFROM:-0600
TZOFFSETTO:-0700
TZNAME:MST
DTSTART:19701101T020000
RRULE:FREQ=YEARLY;BYMONTH=11;BYDAY=1SU
END:STANDARD
END:VTIMEZONE
BEGIN:VEVENT
UID:2985220:Event:76933
DTSTAMP:20240202T200820Z
SUMMARY:AAG10 - Generative Performative Modeling via Grasshopper Ecote
 ct through Geco
DESCRIPTION:What participants can expect to learn in this workshop\n\n
 This workshop will have the focus on the integration of current energy
  design and engineering tools within the design process. For that, we 
 will use Autodesk Ecotect Analysis and McNeel's Grasshopper to develop
  environmental design solutions to respond to external influences. Thi
 s should give participants a functional understanding to improve perfo
 rmance and the design of a building in the context of its environment.
 \n\nConceiving the relation between building performance and building 
 geometry.\n\nCreating generative performative forms and surfaces based
  on Evaluation performances for e.g. Solar Radiation, Daylight Perform
 ance by Ecotect with Grasshopper through the usage of Geco.\n\nFor mor
 e information visit https://www.grasshopper3d.com/events/aag10-generat
 ive-performative
DTSTART;TZID=America/Boise:20100918T000000
DTEND;TZID=America/Boise:20100919T235900
CATEGORIES:workshop, conference
LOCATION:Vienna University of Technology
WEBSITE:http://utos.blogspot.com/2010/07/advances-in-architectural-geo
 metry-2010.html
URL:http://utos.blogspot.com/2010/07/advances-in-architectural-geometr
 y-2010.html
CONTACT:
ORGANIZER:Advances in Architectural Geometry/ [uto] / Mohamed Zaghloul
ATTACH;FMTTYPE="image/jpeg":http://storage.ning.com/topology/rest/1.0/
 file/get/2827715183?profile=original
ATTENDEE;ROLE=REQ-PARTICIPANT;PARTSTAT=ACCEPTED;RSVP=TRUE;CN="Giulio P
 iacentino":https://www.grasshopper3d.com/profile/GiulioPiacentino
ATTENDEE;ROLE=REQ-PARTICIPANT;PARTSTAT=ACCEPTED;RSVP=TRUE;CN="°[u":ht
 tps://www.grasshopper3d.com/profile/UrsulaFrick
ATTENDEE;ROLE=REQ-PARTICIPANT;PARTSTAT=ACCEPTED;RSVP=TRUE;CN="rhina Po
 rtillo":https://www.grasshopper3d.com/profile/rhinaPortillo498
ATTENDEE;ROLE=REQ-PARTICIPANT;PARTSTAT=ACCEPTED;RSVP=TRUE;CN=rhina:htt
 ps://www.grasshopper3d.com/profile/rhina
ATTENDEE;ROLE=REQ-PARTICIPANT;PARTSTAT=ACCEPTED;RSVP=TRUE;CN="to]":htt
 ps://www.grasshopper3d.com/profile/to
END:VEVENT
END:VCALENDAR
