BEGIN:VCALENDAR
PRODID:NingEventWidget-v1
VERSION:2.0
METHOD:PUBLISH
BEGIN:VTIMEZONE
TZID:America/Boise
X-LIC-LOCATION:America/Boise
BEGIN:DAYLIGHT
TZOFFSETFROM:-0700
TZOFFSETTO:-0600
TZNAME:MDT
DTSTART:19700308T020000
RRULE:FREQ=YEARLY;BYMONTH=3;BYDAY=2SU
END:DAYLIGHT
BEGIN:STANDARD
TZOFFSETFROM:-0600
TZOFFSETTO:-0700
TZNAME:MST
DTSTART:19701101T020000
RRULE:FREQ=YEARLY;BYMONTH=11;BYDAY=1SU
END:STANDARD
END:VTIMEZONE
BEGIN:VEVENT
UID:2985220:Event:2000873
DTSTAMP:20260423T102828Z
SUMMARY:AAD SERIES - Grasshopper Workshops Milano - Italia
DESCRIPTION:\n\nGiunta all'ottavo anno consecutivo di attivazione, AAD
  Series è la più seguita serie di corsi su Rhino-Grasshopper in Ital
 ia. Da quest'anno proporremo il nuovo corso Perspectives, pensato come
  workshop innovativo sulle prospettive e sfide future del design compu
 tazionale.\nINFO ED ISCRIZIONI\n\nPLUG IT | Rhino + Grasshopper | Live
 llo Base | Modellazione parametrica e controllo di forme complesse\nPl
 ug it, primo step del percorso formativo in tre fasi “AAD Workshop S
 eries“. Plug it fornirà ai partecipanti un’effettiva padronanza d
 elle più avanzate tecniche di modellazione digitale, approfondendo le
  metodologie della modellazione algoritmica e parametrica nel campo de
 ll’architettura e del design del prodotto. Il corso è rivolto a stu
 denti e professionisti dei settori della progettazione architettonica,
  design, moda e gioielleria, con esperienza minima nel disegno CAD bid
 imensionale (acquisita su qualsiasi piattaforma software) e si articol
 erà in lezioni teoriche frontali ed esercitazioni guidate\n\nFORM FIN
 DING STRATEGIES | Livello Intermedio | Analisi ambientale ed ottimizza
 zione della forma\nForm Finding Strategies è il secondo step del perc
 orso formativo in tre fasi “AAD Workshop Series“. Il workshop inte
 nde esplorare le possibilità di generazione di forme efficienti in re
 lazione ad influenze esterne ed alle caratteristiche intrinseche della
  materia stessa. Analisi ambientale (input solari, termici ed acustici
 ) ed analisi/ottimizzazione strutturale FEM saranno le principali meto
 dologie utilizzate per raggiungere gli obiettivi di ricerca della form
 a. Saranno introdotti numerosi plug-ins tra cui: Weaverbird, Kangaroo,
  Geco/Ecotect, Ladybug, Millipede. Il corso si rivolge a studenti e pr
 ofessionisti con conoscenza base di Rhino e Grasshopper.\n\nPERSPECTIV
 ES | Livello Avanzato | Python coding e modellazione algoritmica avanz
 ata\nIl nuovo corso Perspectives proposto per la prima volta nel 2019 
 (ed ultimo step del percorso formativo in tre fasi “AAD Workshop Ser
 ies) introdurrà gli studenti alla programmazione Python ed alla sua i
 ntegrazione con Grasshopper. Verranno inoltre esplorate tecniche avanz
 ate di generazione formale basate su iterazioni. Tra i principali plug
 ins utilizzati: GhPython, Anemone, Hoopsnake, Plankton, MeshMachine, P
 ufferfish. Pensato come workshop innovativo sulle prospettive e sfide 
 future del design computazionale, è rivolto a studenti e professionis
 ti con esperienza in modellazione algoritmica con Grasshopper.\n\nFor 
 more information visit https://www.grasshopper3d.com/events/aad-series
 -grasshopper-workshops-milano-italia
DTSTART;TZID=America/Boise:20191009T000000
DTEND;TZID=America/Boise:20191201T235900
CATEGORIES:corso, workshop
LOCATION:E-Network
WEBSITE:http://www.arturotedeschi.com/wordpress/?page_id=4559
URL:http://www.arturotedeschi.com/wordpress/?page_id=4559
CONTACT:
ORGANIZER:Arturo Tedeschi - Edizioni Le Penseur
ATTACH;FMTTYPE="image/jpeg":https://storage.ning.com/topology/rest/1.0
 /file/get/3398740674?profile=original
ATTENDEE;ROLE=REQ-PARTICIPANT;PARTSTAT=ACCEPTED;RSVP=TRUE;CN="Arturo T
 edeschi":https://www.grasshopper3d.com/profile/ArturoTedeschi
END:VEVENT
END:VCALENDAR
