BEGIN:VCALENDAR
PRODID:NingEventWidget-v1
VERSION:2.0
METHOD:PUBLISH
BEGIN:VTIMEZONE
TZID:America/Boise
X-LIC-LOCATION:America/Boise
BEGIN:DAYLIGHT
TZOFFSETFROM:-0700
TZOFFSETTO:-0600
TZNAME:MDT
DTSTART:19700308T020000
RRULE:FREQ=YEARLY;BYMONTH=3;BYDAY=2SU
END:DAYLIGHT
BEGIN:STANDARD
TZOFFSETFROM:-0600
TZOFFSETTO:-0700
TZNAME:MST
DTSTART:19701101T020000
RRULE:FREQ=YEARLY;BYMONTH=11;BYDAY=1SU
END:STANDARD
END:VTIMEZONE
BEGIN:VEVENT
UID:2985220:Event:871538
DTSTAMP:20260424T120356Z
SUMMARY:AA Houston Visiting School
DESCRIPTION:“Inter-Scaless” is a two-week workshop where students 
  develop parametric design strategies that enable them to  generate 
 design scenarios across scales, while focusing on a given conceptual f
 ramework. The  challenge this year is to rebuild the relationship bet
 ween  the Houston’s Ship-Channel and the public urban  structure o
 f Houston, to generate a sense of place. Parametric systems that respo
 nd to both existing urban fabric and Houston’s port water mass, lead
  to a range of artiﬁ cial landscapes that negotiate public space wit
 h the  Ship Channel’s edge. Situated at the crossroads of Urban Des
 ign, Architecture, Environmental Design and infrastructure, this exerc
 ise will give participants the opportunity to develop their skills thr
 ough different methodologies based on the exploration of local conditi
 ons, material processes, and the experimentation with digital fabricat
 ion and representational tools. The Visiting School is an opportunity 
 to experience methodologies and ideas developed at the Architectural A
 ssociation in a two-week intensive full time studio.\n \nAA Visiting 
 School Houston Directors:\n \nVictoria Goldstein\nArturo Revilla\n\nF
 or more information visit https://www.grasshopper3d.com/events/aa-hous
 ton-visiting-school-1
DTSTART;TZID=America/Boise:20130722T000000
DTEND;TZID=America/Boise:20130802T235900
CATEGORIES:design, workshop
LOCATION:University of Houston, Houston Texas
WEBSITE:http://houston.aaschool.ac.uk/
URL:http://houston.aaschool.ac.uk/
CONTACT:
ORGANIZER;CN="Arturo Revilla":https://www.grasshopper3d.com/profile/Ar
 turoRevilla118
ATTACH;FMTTYPE="image/jpeg":http://storage.ning.com/topology/rest/1.0/
 file/get/2708860637?profile=original
ATTENDEE;ROLE=REQ-PARTICIPANT;PARTSTAT=ACCEPTED;RSVP=TRUE;CN="Arturo R
 evilla":https://www.grasshopper3d.com/profile/ArturoRevilla118
END:VEVENT
END:VCALENDAR
