BEGIN:VCALENDAR
PRODID:NingEventWidget-v1
VERSION:2.0
METHOD:PUBLISH
BEGIN:VTIMEZONE
TZID:America/Boise
X-LIC-LOCATION:America/Boise
BEGIN:DAYLIGHT
TZOFFSETFROM:-0700
TZOFFSETTO:-0600
TZNAME:MDT
DTSTART:19700308T020000
RRULE:FREQ=YEARLY;BYMONTH=3;BYDAY=2SU
END:DAYLIGHT
BEGIN:STANDARD
TZOFFSETFROM:-0600
TZOFFSETTO:-0700
TZNAME:MST
DTSTART:19701101T020000
RRULE:FREQ=YEARLY;BYMONTH=11;BYDAY=1SU
END:STANDARD
END:VTIMEZONE
BEGIN:VEVENT
UID:2985220:Event:947680
DTSTAMP:20260424T010008Z
SUMMARY:4th Parametric Design Workshop Leipzig (4PDWL)
DESCRIPTION:Parametric Folded Structures\ndesigning. generating. analy
 zing. optimising\ndesigners. architects. engineers\nguest lectures and
  tutoring by international experts\nwork in small international groups
 \nachieve state of the art results\nexperience a great European city\n
 \nFor more information visit https://www.grasshopper3d.com/events/4th-
 parametric-design-workshop-leipzig-4pdwl
DTSTART;TZID=America/Boise:20131205T180000
DTEND;TZID=America/Boise:20131209T120000
CATEGORIES:workshop
LOCATION:HTWK Leipzig
WEBSITE:http://pdwl.htwk-leipzig.de
URL:http://pdwl.htwk-leipzig.de
CONTACT:+49 341 3076-6283
ORGANIZER:Prof. Henning Rambow | Prof. Dr.-Ing. Alexander Stahr
ATTACH;FMTTYPE="image/jpeg":http://storage.ning.com/topology/rest/1.0/
 file/get/2828404224?profile=original
ATTENDEE;ROLE=REQ-PARTICIPANT;PARTSTAT=ACCEPTED;RSVP=TRUE;CN="Martin D
 embski":https://www.grasshopper3d.com/profile/MartinDembski
ATTENDEE;ROLE=REQ-PARTICIPANT;PARTSTAT=ACCEPTED;RSVP=TRUE;CN="Hannes L
 öschke":https://www.grasshopper3d.com/profile/HannesLoeschke
ATTENDEE;ROLE=REQ-PARTICIPANT;PARTSTAT=ACCEPTED;RSVP=TRUE;CN="Alexande
 r Stahr":https://www.grasshopper3d.com/profile/AlexanderStahr
END:VEVENT
END:VCALENDAR
