BEGIN:VCALENDAR
PRODID:NingEventWidget-v1
VERSION:2.0
METHOD:PUBLISH
BEGIN:VTIMEZONE
TZID:America/Boise
X-LIC-LOCATION:America/Boise
BEGIN:DAYLIGHT
TZOFFSETFROM:-0700
TZOFFSETTO:-0600
TZNAME:MDT
DTSTART:19700308T020000
RRULE:FREQ=YEARLY;BYMONTH=3;BYDAY=2SU
END:DAYLIGHT
BEGIN:STANDARD
TZOFFSETFROM:-0600
TZOFFSETTO:-0700
TZNAME:MST
DTSTART:19701101T020000
RRULE:FREQ=YEARLY;BYMONTH=11;BYDAY=1SU
END:STANDARD
END:VTIMEZONE
BEGIN:VEVENT
UID:2985220:Event:1284302
DTSTAMP:20260424T031945Z
SUMMARY:3ª edición Workshop de Rhino para Arquitectura · SEVILLA ·
  Spain
DESCRIPTION:El objetivo del taller será crear y modelar con rapidez y
  precisión todo tipo de geometrías con Rhinoceros. Este taller prep
 ara al alumno para dominar una aplicacion profesional de modelado en t
 res dimensiones extraordinariamente usada tanto en el diseño industri
 al como en arquitectura. Durante las sesiones de clase el alumno apren
 de con una metodología orientada a la práctica progresiva, comenzand
 o por aprender las herramientas básicas de Rhinoceros, el manejo de l
 as vistas, el historial, la creación de objetos 2D, hasta llegar a op
 eraciones más avanzadas como la creación de sólidos, el trabajo con
  curvas y polilíneas, las operaciones booleanas, las fusiones, el mod
 elado de precisión con Rhinoceros 3D, la manipulación de bloques, lo
 s recortes, el trabajo con matrices, etc.\n \n<entrega de DIPLOMA CE
 RTIFICADO en castellano\ny DIPLOMA CERTIFICADO en inglés al finaliz
 ar el curso>\n \nPerfil del alumno al que va dirigido el curso: Profe
 sionales titulados y estudiantes universitarios de las carreras técni
 cas de: . Arquitectura . Arquitectura Técnica . Ingeniería de Edific
 ación Profesionales que buscan reciclar sus conocimientos de 3D y/o i
 niciarse en modelado basado en NURBS: . Arquitectos . Aparejadores . D
 elineantes . Ingenieros . Diseñadores Gráficos, Digital Artists, CG 
 Artists, etc.\n \nREQUISITOS: No se requieren conocimientos previos d
 e CAD ni de modelado 3D. Al comienzo del Workshop se parte de cero en 
 Rhinoceros.\n\n\n\nImpartido por Formador Autorizado de McNeel (ART - 
 Authorized Rhino Trainer)\n\n\n\nFor more information visit https://ww
 w.grasshopper3d.com/events/3-edici-n-workshop-de-rhino-para-arquitectu
 ra-sevilla-spain
DTSTART;TZID=America/Boise:20150629T163000
DTEND;TZID=America/Boise:20150709T203000
CATEGORIES:"workshop/taller/curso", práctico
LOCATION:RENDERSFACTORY Sevilla
WEBSITE:http://www.rendersfactory.es/curso-rhino-sevilla/
URL:http://www.rendersfactory.es/curso-rhino-sevilla/
CONTACT:+34667505284
ORGANIZER:RENDERSFACTORY Sevilla
ATTACH;FMTTYPE="image/jpeg":http://storage.ning.com/topology/rest/1.0/
 file/get/2828937385?profile=original
ATTENDEE;ROLE=REQ-PARTICIPANT;PARTSTAT=ACCEPTED;RSVP=TRUE;CN=RENDERSFA
 CTORY:https://www.grasshopper3d.com/profile/RENDERSFACTORY
END:VEVENT
END:VCALENDAR
