BEGIN:VCALENDAR
PRODID:NingEventWidget-v1
VERSION:2.0
METHOD:PUBLISH
BEGIN:VTIMEZONE
TZID:America/Boise
X-LIC-LOCATION:America/Boise
BEGIN:DAYLIGHT
TZOFFSETFROM:-0700
TZOFFSETTO:-0600
TZNAME:MDT
DTSTART:19700308T020000
RRULE:FREQ=YEARLY;BYMONTH=3;BYDAY=2SU
END:DAYLIGHT
BEGIN:STANDARD
TZOFFSETFROM:-0600
TZOFFSETTO:-0700
TZNAME:MST
DTSTART:19701101T020000
RRULE:FREQ=YEARLY;BYMONTH=11;BYDAY=1SU
END:STANDARD
END:VTIMEZONE
BEGIN:VEVENT
UID:2985220:Event:47748
DTSTAMP:20260424T182225Z
SUMMARY:D-O-F Design-Optimization-Fabrication
DESCRIPTION:Using Rhinoceros 4.0 as a platform, we have developed the 
 Rhino - D-O-F, a software set of tools to explore, optimize and fabric
 ate complex topologies. Basic knowledge of Rhino is required to take t
 his training since this fast-moving class covers many of Rhino's funct
 ionality, including the most advanced surfacing commands. In addition,
  this workshop will give students a functional understanding of the Gr
 asshopper; allowing them to build on this understanding into more adva
 nced projects of their own including Design Optimization with RhinoNes
 t, and creating their models on a CNC o Laser machine. ** Special 1/2 
 price for Teachers or students $450 ** Rhino License @ 1/2 price too *
 *\nDates: 04/30/2010 - 05/01/2010 and 05/07/2010 - 05/08/2010\n\nFor m
 ore information visit https://www.grasshopper3d.com/events/2985220:Eve
 nt:47748
DTSTART;TZID=America/Boise:20100430T083000
DTEND;TZID=America/Boise:20100501T173000
CATEGORIES:d-o-f
LOCATION:Florida Atlantic University
WEBSITE:http://uavp.fau.edu/FloorPlanBook/pdf/5/0005-BC04-AT-1-10.pdf
URL:http://uavp.fau.edu/FloorPlanBook/pdf/5/0005-BC04-AT-1-10.pdf
CONTACT:305 513 4445
ORGANIZER:Jackie Nasser, jackie@mcneel.com
ATTACH;FMTTYPE="image/jpeg":http://storage.ning.com/topology/rest/1.0/
 file/get/2827689300?profile=original
ATTENDEE;ROLE=REQ-PARTICIPANT;PARTSTAT=ACCEPTED;RSVP=TRUE;CN="Andres G
 onzalez":https://www.grasshopper3d.com/profile/AndresGonzalez
ATTENDEE;ROLE=REQ-PARTICIPANT;PARTSTAT=TENTATIVE;RSVP=TRUE;CN=rhina:ht
 tps://www.grasshopper3d.com/profile/rhina
END:VEVENT
END:VCALENDAR
