BEGIN:VCALENDAR
PRODID:NingEventWidget-v1
VERSION:2.0
METHOD:PUBLISH
BEGIN:VTIMEZONE
TZID:America/Boise
X-LIC-LOCATION:America/Boise
BEGIN:DAYLIGHT
TZOFFSETFROM:-0700
TZOFFSETTO:-0600
TZNAME:MDT
DTSTART:19700308T020000
RRULE:FREQ=YEARLY;BYMONTH=3;BYDAY=2SU
END:DAYLIGHT
BEGIN:STANDARD
TZOFFSETFROM:-0600
TZOFFSETTO:-0700
TZNAME:MST
DTSTART:19701101T020000
RRULE:FREQ=YEARLY;BYMONTH=11;BYDAY=1SU
END:STANDARD
END:VTIMEZONE
BEGIN:VEVENT
UID:2985220:Event:147951
DTSTAMP:20260421T093305Z
SUMMARY:D-O-F Design-Optimization-Fabrication
DESCRIPTION:\n\nD+O+F ( Design Optimization & Fabrication )Mar 7-11 20
 11 8:00 am - 5:00 pm Miami, Florida \nCourse Description:In this cl
 ass you'll learn to create and edit accurate free-form 3-D NURBS model
 s. This fast-moving class covers most of Rhino's functionality, includ
 ing the most advanced surfacing commands. In addition, this workshop w
 ill give students a functional understanding of Grasshopper and Parame
 tric design. This will allow them to build on this understanding into 
 more advanced projects of their own including design optimization with
  RhinoNest and creating their models on a laser machine.\n\n\n\n\n\n\n
 \n\n\n\nFor more information visit https://www.grasshopper3d.com/event
 s/2985220:Event:147951
DTSTART;TZID=America/Boise:20110307T000000
DTEND;TZID=America/Boise:20110311T235900
CATEGORIES:d-o-f
LOCATION:McNeel Miami's RhinoFabLab
WEBSITE:http://www.RhinoFabLab.com
URL:http://www.RhinoFabLab.com
CONTACT:305 513 4445 McNeel Miami
ORGANIZER:Jackie Nasser, jackie@mcneel.com
ATTACH;FMTTYPE="image/jpeg":http://storage.ning.com/topology/rest/1.0/
 file/get/2827752551?profile=original
ATTENDEE;ROLE=REQ-PARTICIPANT;PARTSTAT=ACCEPTED;RSVP=TRUE;CN="Andres G
 onzalez":https://www.grasshopper3d.com/profile/AndresGonzalez
END:VEVENT
END:VCALENDAR
