BEGIN:VCALENDAR
PRODID:NingEventWidget-v1
VERSION:2.0
METHOD:PUBLISH
BEGIN:VTIMEZONE
TZID:America/Boise
X-LIC-LOCATION:America/Boise
BEGIN:DAYLIGHT
TZOFFSETFROM:-0700
TZOFFSETTO:-0600
TZNAME:MDT
DTSTART:19700308T020000
RRULE:FREQ=YEARLY;BYMONTH=3;BYDAY=2SU
END:DAYLIGHT
BEGIN:STANDARD
TZOFFSETFROM:-0600
TZOFFSETTO:-0700
TZNAME:MST
DTSTART:19701101T020000
RRULE:FREQ=YEARLY;BYMONTH=11;BYDAY=1SU
END:STANDARD
END:VTIMEZONE
BEGIN:VEVENT
UID:2985220:Event:1990843
DTSTAMP:20260423T052855Z
SUMMARY:2019新课程 | Grasshopper参数化产品设计高级课程
DESCRIPTION:\n本课程是针对产品设计行业开设的参数化
 计高级面授课程。课程由Rhino原厂策划并由Rhino中国
 司定期安排授课。本课程包含了系统的参数化设计课
 程和深入的行业应用课程。特别面向产品设计，汽车
 计，鞋业设计等相关设计行业。\n\n课程结构\n\n本课
 程共10天，其中1天休息，每天课时8小时。\n课程包含
 个阶段：参数化设计系统课程(6天)+1天休息+产品设
 深入课程(3天)。\n\n\n第一阶段：参数化设计系统课程
   连续6天课程，这是本课程的主体部分。该阶段课
 对参数化设计方法进行系统性和细致性的介绍和学习
 。第一阶段的课程内容并不侧重于某个具体的设计行
 ，是一个设计业通用的专注于介绍参数化设计方法
 程。其中包括：参数化设计的运行规则、逻辑思路的
 分析、相关方法和概念的补充，工具的使用技巧和工
 流程等等。本阶段课程的详细介绍请参考 参数化设
 计系统课程 。\n\n\n第二阶段：参数化产品设计深入
 程  本阶段课程以工业设计行业实际应用的案例为主
 。侧重介绍参数化设计在产品设计行业中普遍和典型
 应用方法和流程。并强调在产品设计行业中遇到的
 些普遍的技术难点和解决办法。\n\n这个阶段的课程
 实际范例的制作过程为主，反映产品设计行业中普遍
 会遇到的技术难点是什么，以及该用什么方法或流程
 解决，是对第一阶段学习到的方法和理解的深入运
 。\n\n\n请注意：本阶段课程并没有新的参数化设计知
 识点，事实上所有本阶段运用到的参数化方法和理解
 是在第一阶段课程中学习到的。因此学员必须首先
 成第一阶段的参数化设计系统课程 。\n\n现在就报名
 加课程...\n了解课程更多详细介绍...\n\n\n\nFor more info
 rmation visit https://www.grasshopper3d.com/events/2019-grasshopper
DTSTART;TZID=America/Boise:20190719T000000
DTEND;TZID=America/Boise:20190823T235900
CATEGORIES:training, parametricdesign, 中文课程
LOCATION:Beijing, Shenzhen and Shanghai, China
WEBSITE:http://rhino3d.asia/artc
URL:http://rhino3d.asia/artc
CONTACT:021-56496412
ORGANIZER:Dixon
ATTACH;FMTTYPE="image/jpeg":https://storage.ning.com/topology/rest/1.0
 /file/get/2850479984?profile=original
ATTENDEE;ROLE=REQ-PARTICIPANT;PARTSTAT=ACCEPTED;RSVP=TRUE;CN=Jessesn:h
 ttps://www.grasshopper3d.com/profile/Jessesn356
ATTENDEE;ROLE=REQ-PARTICIPANT;PARTSTAT=TENTATIVE;RSVP=TRUE;CN=dicky:ht
 tps://www.grasshopper3d.com/profile/dicky
ATTENDEE;ROLE=REQ-PARTICIPANT;PARTSTAT=TENTATIVE;RSVP=TRUE;CN=Dixon:ht
 tps://www.grasshopper3d.com/profile/Dixon
END:VEVENT
END:VCALENDAR
