BEGIN:VCALENDAR
PRODID:NingEventWidget-v1
VERSION:2.0
METHOD:PUBLISH
BEGIN:VTIMEZONE
TZID:America/Boise
X-LIC-LOCATION:America/Boise
BEGIN:DAYLIGHT
TZOFFSETFROM:-0700
TZOFFSETTO:-0600
TZNAME:MDT
DTSTART:19700308T020000
RRULE:FREQ=YEARLY;BYMONTH=3;BYDAY=2SU
END:DAYLIGHT
BEGIN:STANDARD
TZOFFSETFROM:-0600
TZOFFSETTO:-0700
TZNAME:MST
DTSTART:19701101T020000
RRULE:FREQ=YEARLY;BYMONTH=11;BYDAY=1SU
END:STANDARD
END:VTIMEZONE
BEGIN:VEVENT
UID:2985220:Event:165823
DTSTAMP:20260422T041202Z
SUMMARY:2011 ACADIA Regional Conference
DESCRIPTION:\n\nFor more information visit https://www.grasshopper3d.c
 om/events/2011-acadia-regional
DTSTART;TZID=America/Boise:20110311T000000
DTEND;TZID=America/Boise:20110312T235900
CATEGORIES:academic, conference, with, workshops
LOCATION:College of Architecture, University of Nebraska-Lincoln
WEBSITE:http://acadiaregional.unl.edu
URL:http://acadiaregional.unl.edu
CONTACT:
ORGANIZER;CN="Timothy Hemsath":https://www.grasshopper3d.com/profile/T
 imothyHemsath
ATTACH;FMTTYPE="image/jpeg":http://storage.ning.com/topology/rest/1.0/
 file/get/2827763744?profile=original
ATTENDEE;ROLE=REQ-PARTICIPANT;PARTSTAT=ACCEPTED;RSVP=TRUE;CN="Timothy 
 Hemsath":https://www.grasshopper3d.com/profile/TimothyHemsath
ATTENDEE;ROLE=REQ-PARTICIPANT;PARTSTAT=ACCEPTED;RSVP=TRUE;CN="Brian Ja
 mes":https://www.grasshopper3d.com/profile/BrianJames
END:VEVENT
END:VCALENDAR
