BEGIN:VCALENDAR
PRODID:NingEventWidget-v1
VERSION:2.0
METHOD:PUBLISH
BEGIN:VTIMEZONE
TZID:America/Boise
X-LIC-LOCATION:America/Boise
BEGIN:DAYLIGHT
TZOFFSETFROM:-0700
TZOFFSETTO:-0600
TZNAME:MDT
DTSTART:19700308T020000
RRULE:FREQ=YEARLY;BYMONTH=3;BYDAY=2SU
END:DAYLIGHT
BEGIN:STANDARD
TZOFFSETFROM:-0600
TZOFFSETTO:-0700
TZNAME:MST
DTSTART:19701101T020000
RRULE:FREQ=YEARLY;BYMONTH=11;BYDAY=1SU
END:STANDARD
END:VTIMEZONE
BEGIN:VEVENT
UID:2985220:Event:1551934
DTSTAMP:20260422T032244Z
SUMMARY:2 day Grasshopper Training in Munich for beginners in German
DESCRIPTION:Hi German-speaking fellows,\nwe offer a two day Grasshoppe
 r training in Munich in German language for beginners. More Details ca
 n be found here:\nhttps://www.flexicad.com/service/schulung/kurse/gras
 shopper.htm\n\nBest regards\n\nMichael Meyer\nwww.flexiCAD.com\n\nFor 
 more information visit https://www.grasshopper3d.com/events/2-day-gras
 shopper-training-in-munich-for-beginners-in-german
DTSTART;TZID=America/Boise:20160913T000000
DTEND;TZID=America/Boise:20160914T235900
CATEGORIES:training
LOCATION:Munich, Technische Universität München
WEBSITE:http://www.tum.de
URL:http://www.tum.de
CONTACT:+49 89 75940506
ORGANIZER:Michael Meyer / flexiCAD.com
ATTACH;FMTTYPE="image/jpeg":http://storage.ning.com/topology/rest/1.0/
 file/get/2829405282?profile=original
ATTENDEE;ROLE=REQ-PARTICIPANT;PARTSTAT=ACCEPTED;RSVP=TRUE;CN="Michael 
 Meyer":https://www.grasshopper3d.com/profile/MichaelMeyer
END:VEVENT
END:VCALENDAR
