BEGIN:VCALENDAR
PRODID:NingEventWidget-v1
VERSION:2.0
METHOD:PUBLISH
BEGIN:VTIMEZONE
TZID:America/Boise
X-LIC-LOCATION:America/Boise
BEGIN:DAYLIGHT
TZOFFSETFROM:-0700
TZOFFSETTO:-0600
TZNAME:MDT
DTSTART:19700308T020000
RRULE:FREQ=YEARLY;BYMONTH=3;BYDAY=2SU
END:DAYLIGHT
BEGIN:STANDARD
TZOFFSETFROM:-0600
TZOFFSETTO:-0700
TZNAME:MST
DTSTART:19701101T020000
RRULE:FREQ=YEARLY;BYMONTH=11;BYDAY=1SU
END:STANDARD
END:VTIMEZONE
BEGIN:VEVENT
UID:2985220:Event:978886
DTSTAMP:20260422T171845Z
SUMMARY:100 hrs Grasshopper Advance course with Vicente Soler and Jose
  Salinas
DESCRIPTION:\nGrasshopper Advance course in Madrid (Spain) taught in s
 panish by Vicente Soler and Jose Salinas.\n\nfor more information, ple
 ase visit: \nhttp://www.24studiolab.com/#/portfolio_page/curso-grassh
 opper-madrid/\nhttp://www.24studiolab.com/#/\n\nor write to:\n24studio
 lab@gmail.com\n\nCourse will be variable (during the weekend or during
  the week) depending on the convenience of the assistants.\n\n\nCOURSE
  PROGRAMME (spanish)*\n\nRendimiento formal / Estructural\nGalápagos,
  algoritmos genéticos\nKangaroo physics\nOptimización mediante fuerz
 as fisicas\nForm Finding\nSurface Relaxation\nEdición avanzada de mal
 la\nIsosurface and fractals surface\nKaramba\nRendimiento energetico\n
 Heliotrope / Ghowl\nGeolocalización\nGeco\nKangaroo shape optimizatio
 n\n\n\n* COURSE PROGRAMME may vary depending on the demand of the assi
 stant\n\n\n\nFor more information visit https://www.grasshopper3d.com/
 events/100-hrs-grasshopper-advance-course-with-vicente-soler-and-jose
DTSTART;TZID=America/Boise:20140301T000000
DTEND;TZID=America/Boise:20140411T235900
CATEGORIES:training, curso, course, workshop
LOCATION:Spain
WEBSITE:http://www.24studiolab.com/#/
URL:http://www.24studiolab.com/#/
CONTACT:0034 657 57 95 67
ORGANIZER;CN=24StudioLab:https://www.grasshopper3d.com/profile/24Studi
 oLab
ATTACH;FMTTYPE="image/jpeg":http://storage.ning.com/topology/rest/1.0/
 file/get/2828434349?profile=original
ATTENDEE;ROLE=REQ-PARTICIPANT;PARTSTAT=ACCEPTED;RSVP=TRUE;CN="Vicente 
 Soler":https://www.grasshopper3d.com/profile/VicenteSoler
ATTENDEE;ROLE=REQ-PARTICIPANT;PARTSTAT=ACCEPTED;RSVP=TRUE;CN=24StudioL
 ab:https://www.grasshopper3d.com/profile/24StudioLab
END:VEVENT
END:VCALENDAR
